BEGIN:VCALENDAR
VERSION:2.0
PRODID:-//Raphael Fellmer - ECPv4.9.5//NONSGML v1.0//EN
CALSCALE:GREGORIAN
METHOD:PUBLISH
X-WR-CALNAME:Raphael Fellmer
X-ORIGINAL-URL:http://www.raphaelfellmer.de
X-WR-CALDESC:Veranstaltungen im Raphael Fellmer
BEGIN:VTIMEZONE
TZID:"Europe/Paris"
BEGIN:DAYLIGHT
TZOFFSETFROM:+0100
TZOFFSETTO:+0200
TZNAME:CEST
DTSTART:20140330T010000
END:DAYLIGHT
BEGIN:STANDARD
TZOFFSETFROM:+0200
TZOFFSETTO:+0100
TZNAME:CET
DTSTART:20141026T010000
END:STANDARD
END:VTIMEZONE
BEGIN:VEVENT
DTSTART;TZID="Europe/Paris":20141207T170000
DTEND;TZID="Europe/Paris":20141207T190000
DTSTAMP:20260420T092311
CREATED:20141002T031115Z
LAST-MODIFIED:20141120T070902Z
UID:1499-1417971600-1417978800@www.raphaelfellmer.de
SUMMARY:Frankfurt
DESCRIPTION: FILMFESTIVAL MOUSONTURM FRANKFURT\n17:00 Debatte: Arbeit\, Leistung\, Zeit und Lebensqualität\nWie wollen wir arbeiten\, leben\, denken und was hat das mit dem Verhältnis zu unserer Umwelt zu tun? \nVerena Kuni ist Kunst-\, Medien- und Kulturwissenschaftlerin. Ihre Hauptthemen sind DIY\, Urbane Biotope\, Reale Utopien und Andere Zeiten.  \nRaphael Fellmer lebt seit 2010 im Geldstreik\, um mehr Bewusstsein für die Verantwortung zu schaffen\, die wir alle für Hunger\, Ungerechtigkeit und Umweltzerstörung tragen.  \nDaniel Göcht\, Philosoph und Literaturwissenschaftler\, leitet im Rahmen der Initiative „Meine Zeit ist mein Leben“\, die am Buch zu „Work hard Play hard“ mitwirkte\, Seminare zu den neuen Formen der Arbeitsorganisation. Arbeit\, Leistung\, Zeit und Lebensqualität. \n  \n \n  \nSichere hier den kostenfreien Zugang\, nur begrenzte Tickets stehen kostenfrei zur Verfügung: \nwww.eventbrite.de/e/raphael-fellmer-auf-dem-filmfestival-reflecta-frankfurt-tickets-14497451267 \nAdresse:\nKünstlerhaus Mousonturm\nFrankfurt am Main GmbH\nWaldschmidtstraße 4\n60316 Frankfurt am Main\nT +49.69.40 58 95–0 \nMehr Informationen: www.reflecta.org \n
URL:http://www.raphaelfellmer.de/termin/frankfurt-2/
ATTACH;FMTTYPE=image/png:http://www.raphaelfellmer.de/wp-content/uploads/2014/10/reflectalogogrn-page-001_transpaerent_mediumzugeschntitten.png
END:VEVENT
END:VCALENDAR